BEGIN:VCALENDAR
VERSION:2.0
PRODID:-//Le Petite Princesse - ECPv6.15.17.1//NONSGML v1.0//EN
CALSCALE:GREGORIAN
METHOD:PUBLISH
X-WR-CALNAME:Le Petite Princesse
X-ORIGINAL-URL:https://lepetiteprincesse.com
X-WR-CALDESC:Events for Le Petite Princesse
REFRESH-INTERVAL;VALUE=DURATION:PT1H
X-Robots-Tag:noindex
X-PUBLISHED-TTL:PT1H
BEGIN:VTIMEZONE
TZID:UTC
BEGIN:STANDARD
TZOFFSETFROM:+0000
TZOFFSETTO:+0000
TZNAME:UTC
DTSTART:20240101T000000
END:STANDARD
END:VTIMEZONE
BEGIN:VEVENT
DTSTART;TZID=UTC:20250510T100000
DTEND;TZID=UTC:20250510T111500
DTSTAMP:20260421T133641
CREATED:20250408T172132Z
LAST-MODIFIED:20250408T172132Z
UID:2518-1746871200-1746875700@lepetiteprincesse.com
SUMMARY:Mother's Day Tea Party with Rapunzel
DESCRIPTION:Take part in this special Mother’s Day Tea Party.  Meet your favorite Princess! \nWe will have Princess Meet & Greet\, Interactive Storytelling\, Mommy and Me Professional Photography\, and a Traditional English Tea Party with a variety of Scrumptious Tea Sandwiches\, Scones\, Fruit\, and Pastries. \nLimited Space\, only participating guests permitted. Ages three and up.  RSVP by calling 714-941-9900. \nChildren are welcome to dress in their favorite princess gown. All sales final. Price is $85 per person. Payment is due at time of booking. \n 
URL:https://lepetiteprincesse.com/event/mothers-day-tea-party-with-rapunzel/
LOCATION:Le Petite Princesse\, 500 E Lincoln Avenue\, Orange\, CA\, 92865\, United States
END:VEVENT
BEGIN:VEVENT
DTSTART;TZID=UTC:20250510T130000
DTEND;TZID=UTC:20250510T141500
DTSTAMP:20260421T133641
CREATED:20250408T172521Z
LAST-MODIFIED:20250408T172851Z
UID:2521-1746882000-1746886500@lepetiteprincesse.com
SUMMARY:Mother's Day Tea Party with Ariel
DESCRIPTION:Take part in this special Mother’s Day Tea Party.  Meet your favorite Princess! \nWe will have Princess Meet & Greet\, Interactive Storytelling\, Mommy and Me Professional Photography\, and a Traditional English Tea Party with a variety of Scrumptious Tea Sandwiches\, Scones\, Fruit\, and Pastries. \nLimited Space\, only participating guests permitted. Ages three and up.  RSVP by calling 714-941-9900. \nChildren are welcome to dress in their favorite princess gown. All sales final. Price is $85 per person. Payment is due at time of booking. \n 
URL:https://lepetiteprincesse.com/event/mothers-day-tea-party-with-ariel/
LOCATION:Le Petite Princesse\, 500 E Lincoln Avenue\, Orange\, CA\, 92865\, United States
END:VEVENT
BEGIN:VEVENT
DTSTART;TZID=UTC:20250511T100000
DTEND;TZID=UTC:20250511T231500
DTSTAMP:20260421T133641
CREATED:20250408T174707Z
LAST-MODIFIED:20250408T174707Z
UID:2526-1746957600-1747005300@lepetiteprincesse.com
SUMMARY:Mother's Day Tea Party with Elsa
DESCRIPTION:Take part in this special Mother’s Day Tea Party.  Meet your favorite Princess! \nWe will have Princess Meet & Greet\, Interactive Storytelling\, Mommy and Me Professional Photography\, and a Traditional English Tea Party with a variety of Scrumptious Tea Sandwiches\, Scones\, Fruit\, and Pastries. \nLimited Space\, only participating guests permitted. Ages three and up.  RSVP by calling 714-941-9900. \nChildren are welcome to dress in their favorite princess gown. All sales final. Price is $85 per person. Payment is due at time of booking.
URL:https://lepetiteprincesse.com/event/mothers-day-tea-party-with-elsa/
LOCATION:Le Petite Princesse\, 500 E Lincoln Avenue\, Orange\, CA\, 92865\, United States
END:VEVENT
END:VCALENDAR