BEGIN:VCALENDAR
VERSION:2.0
PRODID:-//Le Petite Princesse - ECPv6.15.17.1//NONSGML v1.0//EN
CALSCALE:GREGORIAN
METHOD:PUBLISH
X-ORIGINAL-URL:https://lepetiteprincesse.com
X-WR-CALDESC:Events for Le Petite Princesse
REFRESH-INTERVAL;VALUE=DURATION:PT1H
X-Robots-Tag:noindex
X-PUBLISHED-TTL:PT1H
BEGIN:VTIMEZONE
TZID:UTC
BEGIN:STANDARD
TZOFFSETFROM:+0000
TZOFFSETTO:+0000
TZNAME:UTC
DTSTART:20180101T000000
END:STANDARD
END:VTIMEZONE
BEGIN:VEVENT
DTSTART;TZID=UTC:20190615T100000
DTEND;TZID=UTC:20190615T113000
DTSTAMP:20260422T063546
CREATED:20190607T201558Z
LAST-MODIFIED:20190607T201841Z
UID:1088-1560592800-1560598200@lepetiteprincesse.com
SUMMARY:Rapunzel’s Adventurous Tea Party
DESCRIPTION:Meet Princess Rapunzel. This will be the Best Day Ever! \nWe will have Princess Dress Up\, Craft\, Interactive Story Time\, Singing\, Dancing\, Photograph Opportunity\, and Tea Party.\nMake your reservation by contacting us at 714-941-9900 or by email lepetiteprincesse.com \n$45 per child\, one free parent per participating child (parent participation not part of event).
URL:https://lepetiteprincesse.com/event/rapunzels-adventurous-tea-party/
LOCATION:Le Petite Princesse\, 500 E Lincoln Avenue\, Orange\, CA\, 92865\, United States
END:VEVENT
BEGIN:VEVENT
DTSTART;TZID=UTC:20190621T180000
DTEND;TZID=UTC:20190621T193000
DTSTAMP:20260422T063546
CREATED:20190607T202247Z
LAST-MODIFIED:20190607T202247Z
UID:1091-1561140000-1561145400@lepetiteprincesse.com
SUMMARY:Princesses Graduation Tea Party
DESCRIPTION:Meet Princess Aurora and Princess Belle.  We are celebrating all princesses who graduated or receiving a promotion. \nWe will have Princess Dress Up\, Craft\, Interactive Story Time\, Singing\, Dancing\, Photograph Opportunity with our pink graduation cap and gown\, and Enchanted Tea Party. \nRSVP by contacting us at 714-941-9900. $55 per child\, one free parent per participating child.
URL:https://lepetiteprincesse.com/event/princesses-graduation-tea-party/
LOCATION:Le Petite Princesse\, 500 E Lincoln Avenue\, Orange\, CA\, 92865\, United States
END:VEVENT
BEGIN:VEVENT
DTSTART;TZID=UTC:20190630T120000
DTEND;TZID=UTC:20190630T133000
DTSTAMP:20260422T063546
CREATED:20190607T202647Z
LAST-MODIFIED:20190613T234920Z
UID:1093-1561896000-1561901400@lepetiteprincesse.com
SUMMARY:Part of Your World Tea Party
DESCRIPTION:Meet Princess Ariel\, today she is trading her mermaid fin for human legs.  \nWe will have Ariel on Land and Princess Dress Up\, Craft\, Interactive Story Time\, Singing\, Dancing\, Photograph Opportunity\, and a Bubbly Tea Party. \nRSVP by contacting us at 714-941-9900. $45 per child\, one free parent per participating child. (Parent participation not part of event)
URL:https://lepetiteprincesse.com/event/part-of-your-world-tea-party-2/
LOCATION:Le Petite Princesse\, 500 E Lincoln Avenue\, Orange\, CA\, 92865\, United States
END:VEVENT
END:VCALENDAR