BEGIN:VCALENDAR
VERSION:2.0
PRODID:-//Le Petite Princesse - ECPv6.15.17.1//NONSGML v1.0//EN
CALSCALE:GREGORIAN
METHOD:PUBLISH
X-ORIGINAL-URL:https://lepetiteprincesse.com
X-WR-CALDESC:Events for Le Petite Princesse
REFRESH-INTERVAL;VALUE=DURATION:PT1H
X-Robots-Tag:noindex
X-PUBLISHED-TTL:PT1H
BEGIN:VTIMEZONE
TZID:UTC
BEGIN:STANDARD
TZOFFSETFROM:+0000
TZOFFSETTO:+0000
TZNAME:UTC
DTSTART:20180101T000000
END:STANDARD
END:VTIMEZONE
BEGIN:VEVENT
DTSTART;TZID=UTC:20190505T103000
DTEND;TZID=UTC:20190505T120000
DTSTAMP:20260422T045318
CREATED:20190316T034801Z
LAST-MODIFIED:20190316T034851Z
UID:998-1557052200-1557057600@lepetiteprincesse.com
SUMMARY:Elena's Fiesta Tea Party
DESCRIPTION:Meet Latin Princess Elena and be ready to Rule!  Together we will have a “Cinco De Mayo” Celebration. \nWe will have Princess Dress Up\, Craft\, Interactive Story Time\, Singing\, Dancing\, Photograph Opportunity\, and a Fiesta Tea Party. \nRSVP your spot by contacting us at 714-941-9900. $45 per child\, one free parent per participating child.
URL:https://lepetiteprincesse.com/event/elenas-fiesta-tea-party/
LOCATION:Le Petite Princesse\, 500 E Lincoln Avenue\, Orange\, CA\, 92865\, United States
END:VEVENT
BEGIN:VEVENT
DTSTART;TZID=UTC:20190511T103000
DTEND;TZID=UTC:20190511T120000
DTSTAMP:20260422T045318
CREATED:20190316T035229Z
LAST-MODIFIED:20190426T155904Z
UID:1000-1557570600-1557576000@lepetiteprincesse.com
SUMMARY:"Mommy & Me Princess Etiquette Tea" with Cinderella
DESCRIPTION:In honor of Mother’s Day we are hosting “Mommy & Me Princess Etiquette Tea”. \nJoin us for a wonderful celebration!  Princess Cinderella will make a special appearance. \nPrincess dress up for little princess\, \nMommy and Me Craft\, \nStory Telling\, \nLearn princess etiquette\, \nTiara provided for both mom and princess\, \nEtiquette brooklet to take home\, \nTea Party with Scrumptious Bites\, \nIndividual Photograph Opportunity. \n  \nRSVP by calling us 714-941-9900.  Limited Space. \n$99 for Mommy and Princess (Additional princess $45)
URL:https://lepetiteprincesse.com/event/mommy-me-etiquette-tea-2/
LOCATION:Le Petite Princesse\, 500 E Lincoln Avenue\, Orange\, CA\, 92865\, United States
END:VEVENT
BEGIN:VEVENT
DTSTART;TZID=UTC:20190531T180000
DTEND;TZID=UTC:20190531T193000
DTSTAMP:20260422T045318
CREATED:20190329T001648Z
LAST-MODIFIED:20190329T001905Z
UID:1005-1559325600-1559331000@lepetiteprincesse.com
SUMMARY:Jasmine's Magical Tea Party
DESCRIPTION:Enjoy the evening with Princess Jasmine as wishes are granted!  Learn how to ride a magic carpet. \nWe will have Princess Dress Up\, Craft\, Interactive Story Time\, Singing\, Dancing\, Photograph Opportunity\, and a Magical Tea Party. \nRSVP your spot by contacting us at 714-941-9900. $45 per child\, one free parent per participating child.
URL:https://lepetiteprincesse.com/event/jasmines-magical-tea-party/
LOCATION:Le Petite Princesse\, 500 E Lincoln Avenue\, Orange\, CA\, 92865\, United States
END:VEVENT
END:VCALENDAR