BEGIN:VCALENDAR
VERSION:2.0
PRODID:-//Le Petite Princesse - ECPv6.15.17.1//NONSGML v1.0//EN
CALSCALE:GREGORIAN
METHOD:PUBLISH
X-ORIGINAL-URL:https://lepetiteprincesse.com
X-WR-CALDESC:Events for Le Petite Princesse
REFRESH-INTERVAL;VALUE=DURATION:PT1H
X-Robots-Tag:noindex
X-PUBLISHED-TTL:PT1H
BEGIN:VTIMEZONE
TZID:UTC
BEGIN:STANDARD
TZOFFSETFROM:+0000
TZOFFSETTO:+0000
TZNAME:UTC
DTSTART:20170101T000000
END:STANDARD
END:VTIMEZONE
BEGIN:VEVENT
DTSTART;TZID=UTC:20181209T103000
DTEND;TZID=UTC:20181209T120000
DTSTAMP:20260422T063649
CREATED:20181203T193644Z
LAST-MODIFIED:20181203T194313Z
UID:943-1544351400-1544356800@lepetiteprincesse.com
SUMMARY:Cinderella's Royal Ball
DESCRIPTION:Enjoy your morning with Cinderella! She will teach princess waltz during our Royal Ball. \nWe will have princess dress up\, craft\, interactive story time\, singing\, dancing\, photograph opportunity\, and a royal tea party. \nRSVP by submitting your reservation under “Contact Us” or by phone 714-941-9900.
URL:https://lepetiteprincesse.com/event/cinderellas-royal-ball-5/
LOCATION:Le Petite Princesse\, 500 E Lincoln Avenue\, Orange\, CA\, 92865\, United States
END:VEVENT
BEGIN:VEVENT
DTSTART;TZID=UTC:20181214T183000
DTEND;TZID=UTC:20181214T200000
DTSTAMP:20260422T063649
CREATED:20181203T193912Z
LAST-MODIFIED:20181203T194109Z
UID:946-1544812200-1544817600@lepetiteprincesse.com
SUMMARY:Frozen Celebration
DESCRIPTION:It’s Coronation Day! We will be opening the gates!  Meet Queen Elsa and Princess Anna. \nWe will have frozen dress up\, craft\, singing\, dancing\, tiara provided to each queen during “Coronation Ceremony”.  End the night with a delightful tea party. \nRSVP by submitting your request under “Contact Us” or by phone 714-941-9900.
URL:https://lepetiteprincesse.com/event/frozen-celebration-2/
LOCATION:Le Petite Princesse\, 500 E Lincoln Avenue\, Orange\, CA\, 92865\, United States
END:VEVENT
BEGIN:VEVENT
DTSTART;TZID=UTC:20181216T103000
DTEND;TZID=UTC:20181216T120000
DTSTAMP:20260422T063649
CREATED:20181203T194645Z
LAST-MODIFIED:20181203T194645Z
UID:951-1544956200-1544961600@lepetiteprincesse.com
SUMMARY:Belle’s Enchanted Tea
DESCRIPTION:Be our guest\, be our guest!  We will sing\, we will dance.  We’ll prepare and serve with flair! \nMeet Princess Belle\, and enjoy this holiday season.  We will have princess dress up\, craft\, singing\, dancing\, photograph opportunity\, and an enchanted tea party. \nRSVP by submitting your reservation under “Contact Us” or by phone 714-941-9900.
URL:https://lepetiteprincesse.com/event/belles-enchanted-tea-4/
LOCATION:Le Petite Princesse\, 500 E Lincoln Avenue\, Orange\, CA\, 92865\, United States
END:VEVENT
BEGIN:VEVENT
DTSTART;TZID=UTC:20181229T103000
DTEND;TZID=UTC:20181229T120000
DTSTAMP:20260422T063649
CREATED:20181203T194842Z
LAST-MODIFIED:20181203T194842Z
UID:953-1546079400-1546084800@lepetiteprincesse.com
SUMMARY:Supercalifragilisticexpialidocious Tea Party
DESCRIPTION:Meet Mary Popping! \nWe will have dress up\, craft\, singing\, dancing\, photograph opportunity\, and a perfectly supercalifragilisticexpialidocious tea party. \nRSVP by submitting your reservation under “Contact Us” or by phone 714-941-9900.
URL:https://lepetiteprincesse.com/event/supercalifragilisticexpialidocious-tea-party/
LOCATION:Le Petite Princesse\, 500 E Lincoln Avenue\, Orange\, CA\, 92865\, United States
END:VEVENT
END:VCALENDAR