BEGIN:VCALENDAR
VERSION:2.0
PRODID:-//Le Petite Princesse - ECPv6.15.17.1//NONSGML v1.0//EN
CALSCALE:GREGORIAN
METHOD:PUBLISH
X-ORIGINAL-URL:https://lepetiteprincesse.com
X-WR-CALDESC:Events for Le Petite Princesse
REFRESH-INTERVAL;VALUE=DURATION:PT1H
X-Robots-Tag:noindex
X-PUBLISHED-TTL:PT1H
BEGIN:VTIMEZONE
TZID:UTC
BEGIN:STANDARD
TZOFFSETFROM:+0000
TZOFFSETTO:+0000
TZNAME:UTC
DTSTART:20170101T000000
END:STANDARD
END:VTIMEZONE
BEGIN:VEVENT
DTSTART;TZID=UTC:20181004T190000
DTEND;TZID=UTC:20181004T203000
DTSTAMP:20260422T093231
CREATED:20180927T182536Z
LAST-MODIFIED:20180927T182536Z
UID:922-1538679600-1538685000@lepetiteprincesse.com
SUMMARY:Adult Modern Etiquette Party
DESCRIPTION:Join us for an evening of social graces\, modern happy hour etiquette\, how to incorporate modern manners in our electronics lifestyles and much more! \n\nTo purchase tickets please call us at 714-941-9900 \nLocation:\nMorning Lavender\n330 El Camino Real\nTustin\, CA 92780
URL:https://lepetiteprincesse.com/event/adult-modern-etiquette-party/
LOCATION:CA
END:VEVENT
BEGIN:VEVENT
DTSTART;TZID=UTC:20181012T183000
DTEND;TZID=UTC:20181012T200000
DTSTAMP:20260422T093231
CREATED:20180927T163225Z
LAST-MODIFIED:20180927T182851Z
UID:908-1539369000-1539374400@lepetiteprincesse.com
SUMMARY:Fairest of Them All
DESCRIPTION:Meet Snow White and Evil Queen.  We will have dress up\, bitten apple craft\, story time\, singing\, dancing\, photo opportunity\, and a tea party. To purchase tickets please submit form thru contact us.  (Letting us know number of tickets requested and for which event).
URL:https://lepetiteprincesse.com/event/mirror-mirror-on-the-wall-you-are-the-fairest-of-them-all/
LOCATION:Le Petite Princesse\, 500 E Lincoln Avenue\, Orange\, CA\, 92865\, United States
END:VEVENT
BEGIN:VEVENT
DTSTART;TZID=UTC:20181014T103000
DTEND;TZID=UTC:20181014T120000
DTSTAMP:20260422T093231
CREATED:20180927T175406Z
LAST-MODIFIED:20180927T182818Z
UID:912-1539513000-1539518400@lepetiteprincesse.com
SUMMARY:Once Upon A Dream
DESCRIPTION:Meet Aurora and Maleficent. We will have dress up\, create your own tiara craft\, story time\, singing\, dancing\, photo opportunity\, and a tea party. To purchase tickets please submit form thru contact us (Letting us know number of tickets requested and for which event).
URL:https://lepetiteprincesse.com/event/once-upon-a-dream/
LOCATION:Le Petite Princesse\, 500 E Lincoln Avenue\, Orange\, CA\, 92865\, United States
END:VEVENT
BEGIN:VEVENT
DTSTART;TZID=UTC:20181021T103000
DTEND;TZID=UTC:20181021T120000
DTSTAMP:20260422T093231
CREATED:20180927T181223Z
LAST-MODIFIED:20180927T182737Z
UID:914-1540117800-1540123200@lepetiteprincesse.com
SUMMARY:Mother Knows Best
DESCRIPTION:Meet Rapunzel and Mother Gothel. We will have dress up\, lantern craft\, story time\, singing\, dancing\,photo opportunity\, and a tea party.  To purchase tickets please submit form thru contact us (Letting us know number of tickets requested and for which event).
URL:https://lepetiteprincesse.com/event/mother-knows-best/
LOCATION:Le Petite Princesse\, 500 E Lincoln Avenue\, Orange\, CA\, 92865\, United States
END:VEVENT
BEGIN:VEVENT
DTSTART;TZID=UTC:20181026T183000
DTEND;TZID=UTC:20181026T200000
DTSTAMP:20260422T093231
CREATED:20180927T181613Z
LAST-MODIFIED:20180927T220207Z
UID:916-1540578600-1540584000@lepetiteprincesse.com
SUMMARY:Descendents Wicked World
DESCRIPTION:They said good is the new bad! Meet Mal & Evie\, listen to their side of the story. We will have mirror craft\, singing\, dancing\, picture opportunity\, and a wickedly tea party. To purchase tickets please submit form thru contact us (Letting us know number of tickets requested and for which event).
URL:https://lepetiteprincesse.com/event/descendents-wicked-world/
LOCATION:Le Petite Princesse\, 500 E Lincoln Avenue\, Orange\, CA\, 92865\, United States
END:VEVENT
END:VCALENDAR