BEGIN:VCALENDAR
VERSION:2.0
PRODID:-//Le Petite Princesse - ECPv6.15.17.1//NONSGML v1.0//EN
CALSCALE:GREGORIAN
METHOD:PUBLISH
X-WR-CALNAME:Le Petite Princesse
X-ORIGINAL-URL:https://lepetiteprincesse.com
X-WR-CALDESC:Events for Le Petite Princesse
REFRESH-INTERVAL;VALUE=DURATION:PT1H
X-Robots-Tag:noindex
X-PUBLISHED-TTL:PT1H
BEGIN:VTIMEZONE
TZID:UTC
BEGIN:STANDARD
TZOFFSETFROM:+0000
TZOFFSETTO:+0000
TZNAME:UTC
DTSTART:20170101T000000
END:STANDARD
END:VTIMEZONE
BEGIN:VEVENT
DTSTART;TZID=UTC:20180916T103000
DTEND;TZID=UTC:20180916T120000
DTSTAMP:20260424T084527
CREATED:20180906T191638Z
LAST-MODIFIED:20180906T191638Z
UID:902-1537093800-1537099200@lepetiteprincesse.com
SUMMARY:Crown Princess of Avalor
DESCRIPTION:Embark on an epic adventure with Princess Elena! We will have princess dress up\, crafts\, story time\, singing\, dancing\, and a tea party. $45 per child.  RSVP by calling 714-941-9900 or by submitting your request under contact us thru website.
URL:https://lepetiteprincesse.com/event/crown-princess-of-avalor/
LOCATION:Le Petite Princesse\, 500 E Lincoln Avenue\, Orange\, CA\, 92865\, United States
END:VEVENT
BEGIN:VEVENT
DTSTART;TZID=UTC:20180921T183000
DTEND;TZID=UTC:20180921T200000
DTSTAMP:20260424T084527
CREATED:20180906T192125Z
LAST-MODIFIED:20180906T192125Z
UID:904-1537554600-1537560000@lepetiteprincesse.com
SUMMARY:Rapunzel Royal Ball
DESCRIPTION:Enjoy the night in a magnificent ball.  We will have princess dress up\, crafts\, story time\, singing\, dancing\, and a tea party. $45 per child.  RSVP by calling 714-941-9900 or by submitting your request under contact us thru website.
URL:https://lepetiteprincesse.com/event/rapunzel-royal-ball/
LOCATION:Le Petite Princesse\, 500 E Lincoln Avenue\, Orange\, CA\, 92865\, United States
END:VEVENT
END:VCALENDAR