BEGIN:VCALENDAR
VERSION:2.0
PRODID:-//Le Petite Princesse - ECPv6.15.17.1//NONSGML v1.0//EN
CALSCALE:GREGORIAN
METHOD:PUBLISH
X-ORIGINAL-URL:https://lepetiteprincesse.com
X-WR-CALDESC:Events for Le Petite Princesse
REFRESH-INTERVAL;VALUE=DURATION:PT1H
X-Robots-Tag:noindex
X-PUBLISHED-TTL:PT1H
BEGIN:VTIMEZONE
TZID:UTC
BEGIN:STANDARD
TZOFFSETFROM:+0000
TZOFFSETTO:+0000
TZNAME:UTC
DTSTART:20170101T000000
END:STANDARD
END:VTIMEZONE
BEGIN:VEVENT
DTSTART;TZID=UTC:20180505T103000
DTEND;TZID=UTC:20180505T120000
DTSTAMP:20260424T143019
CREATED:20180306T161025Z
LAST-MODIFIED:20180306T161025Z
UID:869-1525516200-1525521600@lepetiteprincesse.com
SUMMARY:Elena’s Cinco De Mayo Celebration
DESCRIPTION:Celebrating a magnificent Fiesta with Princess Elena.  We will have princess dress up\, craft\, singing\, dancing\, and a fiesta tea.  $45 per child\, one free parent per participating child. RSVP 714-941-9900.
URL:https://lepetiteprincesse.com/event/elenas-cinco-de-mayo-celebration/
LOCATION:Le Petite Princesse\, 500 E Lincoln Avenue\, Orange\, CA\, 92865\, United States
END:VEVENT
BEGIN:VEVENT
DTSTART;TZID=UTC:20180512T100000
DTEND;TZID=UTC:20180512T110000
DTSTAMP:20260424T143019
CREATED:20180501T161253Z
LAST-MODIFIED:20180501T161253Z
UID:878-1526119200-1526122800@lepetiteprincesse.com
SUMMARY:Mommy & Me Etiquette Tea
DESCRIPTION:In honors of Mother’s Day we are hosting one of a kind tea party.  May 12\, 10:00 am.  Indulge a traditional “English Tea Party” while enjoying an etiquette presentation. \n$99 for Mommy & Child.  RSVP 714-941-9900. Limited Space.
URL:https://lepetiteprincesse.com/event/mommy-me-etiquette-tea/
LOCATION:Le Petite Princesse\, 500 E Lincoln Avenue\, Orange\, CA\, 92865\, United States
END:VEVENT
BEGIN:VEVENT
DTSTART;TZID=UTC:20180520T103000
DTEND;TZID=UTC:20180520T120000
DTSTAMP:20260424T143019
CREATED:20180501T154150Z
LAST-MODIFIED:20180501T154150Z
UID:873-1526812200-1526817600@lepetiteprincesse.com
SUMMARY:Jasmine’s Magic Carpet Adventure
DESCRIPTION:We will have princess dress up\, crafts\, singing\, dancing\, picture opportunity\, and a magical tea party. $45 per child\, one free parent per participating child. RSVP 714-941-9900.
URL:https://lepetiteprincesse.com/event/jasmines-magic-carpet-adventure/
LOCATION:Le Petite Princesse\, 500 E Lincoln Avenue\, Orange\, CA\, 92865\, United States
END:VEVENT
END:VCALENDAR