BEGIN:VCALENDAR
VERSION:2.0
PRODID:-//Le Petite Princesse - ECPv6.15.17.1//NONSGML v1.0//EN
CALSCALE:GREGORIAN
METHOD:PUBLISH
X-ORIGINAL-URL:https://lepetiteprincesse.com
X-WR-CALDESC:Events for Le Petite Princesse
REFRESH-INTERVAL;VALUE=DURATION:PT1H
X-Robots-Tag:noindex
X-PUBLISHED-TTL:PT1H
BEGIN:VTIMEZONE
TZID:UTC
BEGIN:STANDARD
TZOFFSETFROM:+0000
TZOFFSETTO:+0000
TZNAME:UTC
DTSTART:20170101T000000
END:STANDARD
END:VTIMEZONE
BEGIN:VEVENT
DTSTART;TZID=UTC:20180413T183000
DTEND;TZID=UTC:20180413T200000
DTSTAMP:20260424T155753
CREATED:20180306T152515Z
LAST-MODIFIED:20180306T152515Z
UID:863-1523644200-1523649600@lepetiteprincesse.com
SUMMARY:Elsa’s Coronation Celebration
DESCRIPTION:It’s Coronation Day! We will be opening the gates!  We will have frozen dress up\, craft\, singing\, dancing\, tiara provided to each queen during “Coronation Ceremony”.  End the night with a delightful tea party. RSVP 714-941-9900. $45 per child\, one free parent per participating child.
URL:https://lepetiteprincesse.com/event/elsas-coronation-celebration-3/
LOCATION:Le Petite Princesse\, 500 E Lincoln Avenue\, Orange\, CA\, 92865\, United States
END:VEVENT
BEGIN:VEVENT
DTSTART;TZID=UTC:20180415T133000
DTEND;TZID=UTC:20180415T150000
DTSTAMP:20260424T155753
CREATED:20180306T154346Z
LAST-MODIFIED:20180306T154442Z
UID:865-1523799000-1523804400@lepetiteprincesse.com
SUMMARY:Moana’s Polynesian Party
DESCRIPTION:Bringing the beauty of the Island to young dancers.  We will have princess dress up\, craft\, singing\, Polynesian dancing\, and a te fiti tea party.  RSVP 714-941-9900.  $45 per child\, one free parent per participating child. \n 
URL:https://lepetiteprincesse.com/event/moanas-polynesian-party/
LOCATION:Le Petite Princesse\, 500 E Lincoln Avenue\, Orange\, CA\, 92865\, United States
END:VEVENT
BEGIN:VEVENT
DTSTART;TZID=UTC:20180427T183000
DTEND;TZID=UTC:20180427T200000
DTSTAMP:20260424T155753
CREATED:20180306T155552Z
LAST-MODIFIED:20180306T155552Z
UID:867-1524853800-1524859200@lepetiteprincesse.com
SUMMARY:Belle’s Enchanted Tea
DESCRIPTION:Be our guest\, be our guest! We will sing\, we will dance.  We’ll prepare and serve with flair! \nWe will have princess dress up\, craft\, singing\, dancing\, and an enchanted tea party. $45 per child\, one free parent per participating child. RSVP 714-941-9900.
URL:https://lepetiteprincesse.com/event/belles-enchanted-tea-3/
LOCATION:Le Petite Princesse\, 500 E Lincoln Avenue\, Orange\, CA\, 92865\, United States
END:VEVENT
END:VCALENDAR