BEGIN:VCALENDAR
VERSION:2.0
PRODID:-//Le Petite Princesse - ECPv6.15.17.1//NONSGML v1.0//EN
CALSCALE:GREGORIAN
METHOD:PUBLISH
X-WR-CALNAME:Le Petite Princesse
X-ORIGINAL-URL:https://lepetiteprincesse.com
X-WR-CALDESC:Events for Le Petite Princesse
REFRESH-INTERVAL;VALUE=DURATION:PT1H
X-Robots-Tag:noindex
X-PUBLISHED-TTL:PT1H
BEGIN:VTIMEZONE
TZID:UTC
BEGIN:STANDARD
TZOFFSETFROM:+0000
TZOFFSETTO:+0000
TZNAME:UTC
DTSTART:20150101T000000
END:STANDARD
END:VTIMEZONE
BEGIN:VEVENT
DTSTART;TZID=UTC:20170210T183000
DTEND;TZID=UTC:20170210T200000
DTSTAMP:20260424T145802
CREATED:20170125T211618Z
LAST-MODIFIED:20170125T215434Z
UID:740-1486751400-1486756800@lepetiteprincesse.com
SUMMARY:Valentine's Royal Ball
DESCRIPTION:Ariel and Rapunzel will be your Valentine! Choose your favorite princess gown from our princess wardrobe. We will have a Valentine’s Craft\, Interactive Story Time\, Dance\, and Sing-a-Long. Finale the evening with a lovely tea party. To purchase tickets please call 714-941-9900. $45 per child.
URL:https://lepetiteprincesse.com/event/valentines-royal-ball/
LOCATION:Le Petite Princesse\, 500 E Lincoln Avenue\, Orange\, CA\, 92865\, United States
END:VEVENT
BEGIN:VEVENT
DTSTART;TZID=UTC:20161014T183000
DTEND;TZID=UTC:20161014T200000
DTSTAMP:20260424T145802
CREATED:20160902T070840Z
LAST-MODIFIED:20160902T070840Z
UID:670-1476469800-1476475200@lepetiteprincesse.com
SUMMARY:Le Petite Princesse Welcomes Princess “Elena of Avalor”
DESCRIPTION:
URL:https://lepetiteprincesse.com/event/le-petite-princesse-welcomes-princess-elena-of-avalor/
LOCATION:Le Petite Princesse\, 500 E Lincoln Avenue\, Orange\, CA\, 92865\, United States
END:VEVENT
END:VCALENDAR